BEGIN:VCALENDAR
VERSION:2.0
PRODID:-//Tukios.com/
BEGIN:VEVENT
UID:7b5d1109-3e02-47c7-a81c-2d5d650f280b@www.wcmemorial.com
DTSTAMP:20260421T040435Z
DTSTART:20260422T170000Z
DTEND:20260422T180000Z
SUMMARY:Burial
DESCRIPTION:
URL:https://www.wcmemorial.com/obituaries/helen-curry
LOCATION:New Bethel Missionary Baptist Church 12700 GA - Hwy 57  Irwinton 
	GA 31042
GEO:32.8151683;-83.1956949
END:VEVENT
END:VCALENDAR